BEGIN:VCALENDAR
VERSION:2.0
PRODID:-//wp-events-plugin.com//7.2.3.1//EN
TZID:Europe/Berlin
X-WR-TIMEZONE:Europe/Berlin
BEGIN:VEVENT
UID:129@reiten-bei-freunden.de
DTSTART;TZID=Europe/Berlin:20260613T100000
DTEND;TZID=Europe/Berlin:20260614T180000
DTSTAMP:20260410T132049Z
URL:https://www.reiten-bei-freunden.de/events/20-jahre-verein-reiten-bei-f
 reunden/
SUMMARY:Hoffest "20 Jahre Verein Reiten bei Freunden"
DESCRIPTION:Save the Date!\nMehr Infos folgen ab dem 1.6.2026\n\nKalederein
 trag für den 13.6.:\n\n\nKaledereintrag für den 14.6.:\n
ATTACH;FMTTYPE=image/jpeg:https://www.reiten-bei-freunden.de/wp-content/up
 loads/2026/04/2026-04-10_14h35_21.png
CATEGORIES:Fest
LOCATION:Reiten bei Freunden\, Krähenweg 140a\, München\, 81249 \, Deutsc
 hland
X-APPLE-STRUCTURED-LOCATION;VALUE=URI;X-ADDRESS=Krähenweg 140a\, München\
 , 81249 \, Deutschland;X-APPLE-RADIUS=100;X-TITLE=Reiten bei Freunden:geo:
 0,0
END:VEVENT
BEGIN:VTIMEZONE
TZID:Europe/Berlin
X-LIC-LOCATION:Europe/Berlin
BEGIN:DAYLIGHT
DTSTART:20260329T030000
TZOFFSETFROM:+0100
TZOFFSETTO:+0200
TZNAME:CEST
END:DAYLIGHT
END:VTIMEZONE
END:VCALENDAR