BEGIN:VCALENDAR
VERSION:2.0
PRODID:-//wp-events-plugin.com//7.2.3.1//EN
TZID:Europe/Berlin
X-WR-TIMEZONE:Europe/Berlin
BEGIN:VEVENT
UID:124@reiten-bei-freunden.de
DTSTART;TZID=Europe/Berlin:20260817T080000
DTEND;TZID=Europe/Berlin:20260820T150000
DTSTAMP:20260102T084734Z
URL:https://www.reiten-bei-freunden.de/events/2026-sommer3/
SUMMARY:(Auf Anfrage) Reitkurs Sommerferien III - 385€
DESCRIPTION:Diesen Kurs können wir noch nicht garantieren - bitte fragen S
 ie ab Ende Juni an\, ob ein Kurs stattfindet\nInhalte von unseren Ferienre
 itkursen\nReiten für Kinder\, egal ob Einsteiger oder Fortgeschrittener.\
 nDer Kurs findet statt\, wenn mindestens 3 Kinder angemeldet sind.\nIn ein
 em Intensivkurs\, lernt man alles rund ums Pferd – z.B. Füttern\, Miste
 n und Pflegen … und natürlich reiten …\nInformationen zum Ferienreitk
 urs: Merkblatt Ferienreitkurs\n\n 	Der Ferienreitkurs ist bis 14 Tage vor 
 Beginn kostenfrei stornierbar. Bei zu später Absage oder Nichterscheinen 
 zum Kurs wird die halbe Kursgebühr zur Zahlung fällig.\n 	4 Tage (Mo-Do\
 , Fr kein Kurs!)\n 	Kursgebühr: 385€\n
CATEGORIES:Ferienreitkurs,Sommer
LOCATION:Reiten bei Freunden\, Krähenweg 140a\, München\, 81249 \, Deutsc
 hland
X-APPLE-STRUCTURED-LOCATION;VALUE=URI;X-ADDRESS=Krähenweg 140a\, München\
 , 81249 \, Deutschland;X-APPLE-RADIUS=100;X-TITLE=Reiten bei Freunden:geo:
 0,0
END:VEVENT
BEGIN:VTIMEZONE
TZID:Europe/Berlin
X-LIC-LOCATION:Europe/Berlin
BEGIN:DAYLIGHT
DTSTART:20260329T030000
TZOFFSETFROM:+0100
TZOFFSETTO:+0200
TZNAME:CEST
END:DAYLIGHT
END:VTIMEZONE
END:VCALENDAR